BEGIN:VCALENDAR
VERSION:2.0
PRODID:-//Bridging - ECPv6.15.20//NONSGML v1.0//EN
CALSCALE:GREGORIAN
METHOD:PUBLISH
X-ORIGINAL-URL:https://bridging.org
X-WR-CALDESC:Events for Bridging
REFRESH-INTERVAL;VALUE=DURATION:PT1H
X-Robots-Tag:noindex
X-PUBLISHED-TTL:PT1H
BEGIN:VTIMEZONE
TZID:America/Chicago
BEGIN:DAYLIGHT
TZOFFSETFROM:-0600
TZOFFSETTO:-0500
TZNAME:CDT
DTSTART:20240310T080000
END:DAYLIGHT
BEGIN:STANDARD
TZOFFSETFROM:-0500
TZOFFSETTO:-0600
TZNAME:CST
DTSTART:20241103T070000
END:STANDARD
BEGIN:DAYLIGHT
TZOFFSETFROM:-0600
TZOFFSETTO:-0500
TZNAME:CDT
DTSTART:20250309T080000
END:DAYLIGHT
BEGIN:STANDARD
TZOFFSETFROM:-0500
TZOFFSETTO:-0600
TZNAME:CST
DTSTART:20251102T070000
END:STANDARD
BEGIN:DAYLIGHT
TZOFFSETFROM:-0600
TZOFFSETTO:-0500
TZNAME:CDT
DTSTART:20260308T080000
END:DAYLIGHT
BEGIN:STANDARD
TZOFFSETFROM:-0500
TZOFFSETTO:-0600
TZNAME:CST
DTSTART:20261101T070000
END:STANDARD
END:VTIMEZONE
BEGIN:VEVENT
DTSTART;TZID=America/Chicago:20251206T090000
DTEND;TZID=America/Chicago:20251206T110000
DTSTAMP:20260421T142005
CREATED:20250912T174328Z
LAST-MODIFIED:20251016T172837Z
UID:18401-1765011600-1765018800@bridging.org
SUMMARY:Original Mattress Factory Bring A Blanket for Bridging
DESCRIPTION:
URL:https://bridging.org/event/original-mattress-factory-bring-a-blanket-for-bridging/
ATTACH;FMTTYPE=image/png:https://bridging.org/wp-content/uploads/2025/09/Saturday-December-6-2025.png
END:VEVENT
BEGIN:VEVENT
DTSTART;TZID=America/Chicago:20251231T090000
DTEND;TZID=America/Chicago:20251231T180000
DTSTAMP:20260421T142005
CREATED:20251226T210535Z
LAST-MODIFIED:20251226T210829Z
UID:18799-1767171600-1767204000@bridging.org
SUMMARY:Bridging Closed
DESCRIPTION:Happy new year! Bridging will be CLOSED on Wednesday\, December 31\, and Thursday\, January 1. Full operations resume on Friday\, January 2\, 2026.
URL:https://bridging.org/event/bridging-closed/
END:VEVENT
END:VCALENDAR