BEGIN:VCALENDAR
VERSION:2.0
PRODID:-//Bridging - ECPv6.15.20//NONSGML v1.0//EN
CALSCALE:GREGORIAN
METHOD:PUBLISH
X-ORIGINAL-URL:https://bridging.org
X-WR-CALDESC:Events for Bridging
REFRESH-INTERVAL;VALUE=DURATION:PT1H
X-Robots-Tag:noindex
X-PUBLISHED-TTL:PT1H
BEGIN:VTIMEZONE
TZID:America/Chicago
BEGIN:DAYLIGHT
TZOFFSETFROM:-0600
TZOFFSETTO:-0500
TZNAME:CDT
DTSTART:20250309T080000
END:DAYLIGHT
BEGIN:STANDARD
TZOFFSETFROM:-0500
TZOFFSETTO:-0600
TZNAME:CST
DTSTART:20251102T070000
END:STANDARD
BEGIN:DAYLIGHT
TZOFFSETFROM:-0600
TZOFFSETTO:-0500
TZNAME:CDT
DTSTART:20260308T080000
END:DAYLIGHT
BEGIN:STANDARD
TZOFFSETFROM:-0500
TZOFFSETTO:-0600
TZNAME:CST
DTSTART:20261101T070000
END:STANDARD
BEGIN:DAYLIGHT
TZOFFSETFROM:-0600
TZOFFSETTO:-0500
TZNAME:CDT
DTSTART:20270314T080000
END:DAYLIGHT
BEGIN:STANDARD
TZOFFSETFROM:-0500
TZOFFSETTO:-0600
TZNAME:CST
DTSTART:20271107T070000
END:STANDARD
END:VTIMEZONE
BEGIN:VEVENT
DTSTART;TZID=America/Chicago:20260218T140000
DTEND;TZID=America/Chicago:20260218T170000
DTSTAMP:20260422T032130
CREATED:20260128T205605Z
LAST-MODIFIED:20260128T205606Z
UID:19013-1771423200-1771434000@bridging.org
SUMMARY:Give Big Love Bigger
DESCRIPTION:Make a big impact with a simple act of kindness at a relaxed\, come-and-go giving event. We invite you to bring new or gently usedblankets and non-perishable food items to support local families in need. No pressure\, no program—just a warm opportunity to giveback and feel good doing it. \n\n\n\n2555 Snelling Ave N\, Roseville\, MN 55113 | (651) 582-0380 | npseniorliving.comWHY YOU’LL WANT TO STOP BY: Meet multiple non-profits in one convenient visit. Proudly partnering with Bridging and Keystone Community Services. \n\n\n\n\n\n\n\nAll blanket and food donations go directly to local families in need. Enjoy complimentary appetizers and beverages.
URL:https://bridging.org/event/give-big-love-bigger/
LOCATION:Minnesota
END:VEVENT
BEGIN:VEVENT
DTSTART;TZID=America/Chicago:20260228T170000
DTEND;TZID=America/Chicago:20260228T210000
DTSTAMP:20260422T032130
CREATED:20251110T173055Z
LAST-MODIFIED:20251110T173225Z
UID:18597-1772298000-1772312400@bridging.org
SUMMARY:Original Mattress Factory Bedrace for Bridging
DESCRIPTION:Visit our event page for more information!
URL:https://bridging.org/event/original-mattress-factory-bedrace-for-bridging/
LOCATION:Buck Hill\, 15400 Buck Hill Rd\, Burnsville\, Minnesota\, 55306
ATTACH;FMTTYPE=image/jpeg:https://bridging.org/wp-content/uploads/2023/12/2024_OMF_Bedrace_Bridging_Logo.jpg
END:VEVENT
BEGIN:VEVENT
DTSTART;TZID=America/Chicago:20261002T173000
DTEND;TZID=America/Chicago:20261002T213000
DTSTAMP:20260422T032130
CREATED:20251020T142833Z
LAST-MODIFIED:20260319T162550Z
UID:18554-1790962200-1790976600@bridging.org
SUMMARY:Gala for Bridging
DESCRIPTION:Bridging’s Board of Directors warmly invites you to the 2026 Gala for Bridging. Celebrate Bridging’s mission and the many community partners who contribute to the vital work of furnishing homes with hope. \n\n\n\nThis uplifting event – Bridging’s largest fundraiser – includes a dinner\, fabulous auction\, fun games\, and an inspiring program.
URL:https://bridging.org/event/gala-for-bridging/
LOCATION:Saint Paul RiverCentre\, 175 West Kellogg Boulevard\, Saint Paul\, Minnesota\, 55102\, United States
ATTACH;FMTTYPE=image/png:https://bridging.org/wp-content/uploads/2025/10/GalaLogo2025-19.png
END:VEVENT
END:VCALENDAR