BEGIN:VCALENDAR
VERSION:2.0
PRODID:-//Bridging - ECPv6.15.20//NONSGML v1.0//EN
CALSCALE:GREGORIAN
METHOD:PUBLISH
X-WR-CALNAME:Bridging
X-ORIGINAL-URL:https://bridging.org
X-WR-CALDESC:Events for Bridging
REFRESH-INTERVAL;VALUE=DURATION:PT1H
X-Robots-Tag:noindex
X-PUBLISHED-TTL:PT1H
BEGIN:VTIMEZONE
TZID:America/Chicago
BEGIN:DAYLIGHT
TZOFFSETFROM:-0600
TZOFFSETTO:-0500
TZNAME:CDT
DTSTART:20240310T080000
END:DAYLIGHT
BEGIN:STANDARD
TZOFFSETFROM:-0500
TZOFFSETTO:-0600
TZNAME:CST
DTSTART:20241103T070000
END:STANDARD
BEGIN:DAYLIGHT
TZOFFSETFROM:-0600
TZOFFSETTO:-0500
TZNAME:CDT
DTSTART:20250309T080000
END:DAYLIGHT
BEGIN:STANDARD
TZOFFSETFROM:-0500
TZOFFSETTO:-0600
TZNAME:CST
DTSTART:20251102T070000
END:STANDARD
BEGIN:DAYLIGHT
TZOFFSETFROM:-0600
TZOFFSETTO:-0500
TZNAME:CDT
DTSTART:20260308T080000
END:DAYLIGHT
BEGIN:STANDARD
TZOFFSETFROM:-0500
TZOFFSETTO:-0600
TZNAME:CST
DTSTART:20261101T070000
END:STANDARD
END:VTIMEZONE
BEGIN:VEVENT
DTSTART;TZID=America/Chicago:20250926T130000
DTEND;TZID=America/Chicago:20250926T140000
DTSTAMP:20260421T204918
CREATED:20250905T181550Z
LAST-MODIFIED:20250905T181607Z
UID:18349-1758891600-1758895200@bridging.org
SUMMARY:Become a Bridging Ambassador
DESCRIPTION:Have you ever been interested in representing and speaking on behalf of Bridging at community events like community fairs\, farmer’s markets\, senior expos\, Pride\, and speical events? \n\n\n\nWould you like to help out at our signature events like the annual Gala\, Bedrace\, and Bring a Blanket collection? \n\n\n\nAttend a training session! \n\n\n\nYou’ll learn Bridging Fast Facts\, how to answer and address commonly asked questions\, and how to represent Bridging at community events. \n\n\n\nAmbassadors have the opportunity to participate in special events and activities throughout the year! \n\n\n\nConnect and RSVP with Joel Bisser\, 651-403-6272
URL:https://bridging.org/event/become-a-bridging-ambassador-2/
LOCATION:Bridging (Plymouth)\, 12864 Hwy 55\, Plymouth\, Minnesota\, 55441\, United States
ATTACH;FMTTYPE=image/png:https://bridging.org/wp-content/uploads/2025/09/FALLBridgingAmbassadorTrainingSept2025_Joel-Bisser.png
END:VEVENT
BEGIN:VEVENT
DTSTART;TZID=America/Chicago:20250922T130000
DTEND;TZID=America/Chicago:20250922T140000
DTSTAMP:20260421T204918
CREATED:20250905T180919Z
LAST-MODIFIED:20250905T180920Z
UID:18343-1758546000-1758549600@bridging.org
SUMMARY:Become a Bridging Ambassador
DESCRIPTION:Have you ever been interested in representing and speaking on behalf of Bridging at community events like community fairs\, farmer’s markets\, senior expos\, Pride\, and speical events? \n\n\n\nWould you like to help out at our signature events like the annual Gala\, Bedrace\, and Bring a Blanket collection? \n\n\n\nAttend a training session! \n\n\n\nYou’ll learn Bridging Fast Facts\, how to answer and address commonly asked questions\, and how to represent Bridging at community events. \n\n\n\nAmbassadors have the opportunity to participate in special events and activities throughout the year! \n\n\n\nConnect and RSVP with Joel Bisser\, 651-403-6272
URL:https://bridging.org/event/become-a-bridging-ambassador/
LOCATION:Bridging (Roseville)\, 1730 Terrace Dr\, Roseville\, Minnesota\, 55113\, United States
ATTACH;FMTTYPE=image/png:https://bridging.org/wp-content/uploads/2025/09/FALLBridgingAmbassadorTrainingSept2025_Joel-Bisser.png
END:VEVENT
BEGIN:VEVENT
DTSTART;TZID=America/Chicago:20250913T090000
DTEND;TZID=America/Chicago:20250913T120000
DTSTAMP:20260421T204918
CREATED:20250912T160426Z
LAST-MODIFIED:20250912T161140Z
UID:18396-1757754000-1757764800@bridging.org
SUMMARY:Material Reuse Donation Day - Brooklyn Park
DESCRIPTION:Join the Bridging MN team in Brooklyn Park for a Material Reuse Donation Day. \n\n\n\nOPEN TO THE PUBLIC! \n\n\n\nBrooklyn Park and neighboring cities are partnering with Bridging and Better Futures MN as well as Hennepin County. \n\n\n\nHere’s your chance to drop off certain reusable items such as mattresses\, furniture\, and building materials that are in good condition. All materials will be vetted onsite for quality and redistribution. Only items listed on the accepted lists will be considered. \n\n\n\nLearn more:https://www.hrg-recycling.com/material-reuse
URL:https://bridging.org/event/material-reuse-donation-day-brooklyn-park/
LOCATION:Brooklyn Park Operations & Maintenance Facility\, 8300 Noble Ave. N.\, 8300 Noble Ave N\, Brooklyn Park\, Minnesota\, 55443
ATTACH;FMTTYPE=image/jpeg:https://bridging.org/wp-content/uploads/2025/04/thumbnail_IMG_6944-1.jpg
END:VEVENT
BEGIN:VEVENT
DTSTART;TZID=America/Chicago:20250628T100000
DTEND;TZID=America/Chicago:20250629T180000
DTSTAMP:20260421T204918
CREATED:20250611T201956Z
LAST-MODIFIED:20250611T201957Z
UID:16745-1751104800-1751220000@bridging.org
SUMMARY:Bridging at Twin Cities Pride
DESCRIPTION:Stop by our booth at Twin Cities Pride and learn more about who we are and how you can help furnish homes with hope!
URL:https://bridging.org/event/bridging-at-twin-cities-pride/
LOCATION:Loring Park\, Loring Greenway\, Minneapolis\, Minnesota\, 55403\, United States
ATTACH;FMTTYPE=image/png:https://bridging.org/wp-content/uploads/2025/06/Pride-logo.png
END:VEVENT
END:VCALENDAR